BEGIN:VCALENDAR
VERSION:2.0
PRODID:-//Palmyra #184 - ECPv6.15.20//NONSGML v1.0//EN
CALSCALE:GREGORIAN
METHOD:PUBLISH
X-WR-CALNAME:Palmyra #184
X-ORIGINAL-URL:https://palmyra184.com
X-WR-CALDESC:Events for Palmyra #184
REFRESH-INTERVAL;VALUE=DURATION:PT1H
X-Robots-Tag:noindex
X-PUBLISHED-TTL:PT1H
BEGIN:VTIMEZONE
TZID:UTC
BEGIN:STANDARD
TZOFFSETFROM:+0000
TZOFFSETTO:+0000
TZNAME:UTC
DTSTART:20230101T000000
END:STANDARD
END:VTIMEZONE
BEGIN:VEVENT
DTSTART;TZID=UTC:20240403T193000
DTEND;TZID=UTC:20240403T193000
DTSTAMP:20260419T214707
CREATED:20231221T205103Z
LAST-MODIFIED:20231231T004403Z
UID:126-1712172600-1712172600@palmyra184.com
SUMMARY:Palmyra Regular Communication
DESCRIPTION:730pm \n6409 Lenawee St\nPalmyra\, MI 49268
URL:https://palmyra184.com/event/palmyra-regular-communication-2/
LOCATION:Palmyra Lodge\, 6409 Lenawee St\, Palmyra\, MI\, 49268\, United States
CATEGORIES:Palmyra
END:VEVENT
BEGIN:VEVENT
DTSTART;TZID=UTC:20240417T193000
DTEND;TZID=UTC:20240417T193000
DTSTAMP:20260419T214707
CREATED:20231221T202957Z
LAST-MODIFIED:20231221T204647Z
UID:112-1713382200-1713382200@palmyra184.com
SUMMARY:Clinton Regular Communication
DESCRIPTION:7:30pm \n172 W Michigan Ave\nClinton\, MI 49236-9577
URL:https://palmyra184.com/event/clinton-175-regular-communication-3/
CATEGORIES:Clinton
END:VEVENT
END:VCALENDAR