BEGIN:VCALENDAR
VERSION:2.0
PRODID:-//Palmyra #184 - ECPv6.15.20//NONSGML v1.0//EN
CALSCALE:GREGORIAN
METHOD:PUBLISH
X-ORIGINAL-URL:https://palmyra184.com
X-WR-CALDESC:Events for Palmyra #184
REFRESH-INTERVAL;VALUE=DURATION:PT1H
X-Robots-Tag:noindex
X-PUBLISHED-TTL:PT1H
BEGIN:VTIMEZONE
TZID:America/Detroit
BEGIN:DAYLIGHT
TZOFFSETFROM:-0500
TZOFFSETTO:-0400
TZNAME:EDT
DTSTART:20240310T070000
END:DAYLIGHT
BEGIN:STANDARD
TZOFFSETFROM:-0400
TZOFFSETTO:-0500
TZNAME:EST
DTSTART:20241103T060000
END:STANDARD
BEGIN:DAYLIGHT
TZOFFSETFROM:-0500
TZOFFSETTO:-0400
TZNAME:EDT
DTSTART:20250309T070000
END:DAYLIGHT
BEGIN:STANDARD
TZOFFSETFROM:-0400
TZOFFSETTO:-0500
TZNAME:EST
DTSTART:20251102T060000
END:STANDARD
BEGIN:DAYLIGHT
TZOFFSETFROM:-0500
TZOFFSETTO:-0400
TZNAME:EDT
DTSTART:20260308T070000
END:DAYLIGHT
BEGIN:STANDARD
TZOFFSETFROM:-0400
TZOFFSETTO:-0500
TZNAME:EST
DTSTART:20261101T060000
END:STANDARD
END:VTIMEZONE
BEGIN:VEVENT
DTSTART;TZID=America/Detroit:20251028T180000
DTEND;TZID=America/Detroit:20251028T210000
DTSTAMP:20260419T160752
CREATED:20251009T021641Z
LAST-MODIFIED:20251009T021641Z
UID:2117-1761674400-1761685200@palmyra184.com
SUMMARY:Solomons Quarry
DESCRIPTION:
URL:https://palmyra184.com/event/solomons-quarry/
CATEGORIES:Palmyra
END:VEVENT
BEGIN:VEVENT
DTSTART;TZID=America/Detroit:20251105T193000
DTEND;TZID=America/Detroit:20251105T220000
DTSTAMP:20260419T160752
CREATED:20251009T021346Z
LAST-MODIFIED:20251009T021346Z
UID:2114-1762371000-1762380000@palmyra184.com
SUMMARY:Regular Communication
DESCRIPTION:
URL:https://palmyra184.com/event/regular-communication-6/
CATEGORIES:Palmyra
END:VEVENT
END:VCALENDAR