BEGIN:VCALENDAR
VERSION:2.0
PRODID:-//Palmyra #184 - ECPv6.15.20//NONSGML v1.0//EN
CALSCALE:GREGORIAN
METHOD:PUBLISH
X-ORIGINAL-URL:https://palmyra184.com
X-WR-CALDESC:Events for Palmyra #184
REFRESH-INTERVAL;VALUE=DURATION:PT1H
X-Robots-Tag:noindex
X-PUBLISHED-TTL:PT1H
BEGIN:VTIMEZONE
TZID:UTC
BEGIN:STANDARD
TZOFFSETFROM:+0000
TZOFFSETTO:+0000
TZNAME:UTC
DTSTART:20230101T000000
END:STANDARD
END:VTIMEZONE
BEGIN:VEVENT
DTSTART;TZID=UTC:20240207T193000
DTEND;TZID=UTC:20240207T193000
DTSTAMP:20260423T144526
CREATED:20231221T104010Z
LAST-MODIFIED:20240111T012934Z
UID:76-1707334200-1707334200@palmyra184.com
SUMMARY:Palmyra Regular Communication (E.A. Degree)
DESCRIPTION:6409 Lenawee St\nPalmyra\, MI 49268 \n  \nWe will be doing an E.A. Degree this evening. Please attend if possible. \n\n	Notice: JavaScript is required for this content.
URL:https://palmyra184.com/event/regular-communication-2/
CATEGORIES:Palmyra
END:VEVENT
BEGIN:VEVENT
DTSTART;TZID=UTC:20240103T193000
DTEND;TZID=UTC:20240103T193000
DTSTAMP:20260423T144527
CREATED:20231221T101022Z
LAST-MODIFIED:20240101T014556Z
UID:55-1704310200-1704310200@palmyra184.com
SUMMARY:Palmyra Regular Communication
DESCRIPTION:We hope to see you there!\nTake a moment to answer a few questions to help us better serve you. \n\n\n	Notice: JavaScript is required for this content.\n\n\n    \n\n\n        \n        \n        \nIf you attended this event\, please click here to let us know how we did!
URL:https://palmyra184.com/event/regular-communication/
LOCATION:Palmyra Lodge\, 6409 Lenawee St\, Palmyra\, MI\, 49268\, United States
CATEGORIES:Palmyra
END:VEVENT
END:VCALENDAR