BEGIN:VCALENDAR
VERSION:2.0
PRODID:-//Palmyra #184 - ECPv6.15.20//NONSGML v1.0//EN
CALSCALE:GREGORIAN
METHOD:PUBLISH
X-ORIGINAL-URL:https://palmyra184.com
X-WR-CALDESC:Events for Palmyra #184
REFRESH-INTERVAL;VALUE=DURATION:PT1H
X-Robots-Tag:noindex
X-PUBLISHED-TTL:PT1H
BEGIN:VTIMEZONE
TZID:America/Detroit
BEGIN:DAYLIGHT
TZOFFSETFROM:-0500
TZOFFSETTO:-0400
TZNAME:EDT
DTSTART:20230312T070000
END:DAYLIGHT
BEGIN:STANDARD
TZOFFSETFROM:-0400
TZOFFSETTO:-0500
TZNAME:EST
DTSTART:20231105T060000
END:STANDARD
BEGIN:DAYLIGHT
TZOFFSETFROM:-0500
TZOFFSETTO:-0400
TZNAME:EDT
DTSTART:20240310T070000
END:DAYLIGHT
BEGIN:STANDARD
TZOFFSETFROM:-0400
TZOFFSETTO:-0500
TZNAME:EST
DTSTART:20241103T060000
END:STANDARD
BEGIN:DAYLIGHT
TZOFFSETFROM:-0500
TZOFFSETTO:-0400
TZNAME:EDT
DTSTART:20250309T070000
END:DAYLIGHT
BEGIN:STANDARD
TZOFFSETFROM:-0400
TZOFFSETTO:-0500
TZNAME:EST
DTSTART:20251102T060000
END:STANDARD
END:VTIMEZONE
BEGIN:VTIMEZONE
TZID:UTC
BEGIN:STANDARD
TZOFFSETFROM:+0000
TZOFFSETTO:+0000
TZNAME:UTC
DTSTART:20230101T000000
END:STANDARD
END:VTIMEZONE
BEGIN:VEVENT
DTSTART;TZID=America/Detroit:20240122T180000
DTEND;TZID=America/Detroit:20240122T180000
DTSTAMP:20260423T131441
CREATED:20240115T184436Z
LAST-MODIFIED:20240115T184436Z
UID:1930-1705946400-1705946400@palmyra184.com
SUMMARY:Manchester EA Degrees
DESCRIPTION:Dinner at 6\, gavel at 7.
URL:https://palmyra184.com/event/manchester-ea-degrees/
CATEGORIES:Manchester
END:VEVENT
BEGIN:VEVENT
DTSTART;TZID=UTC:20240101T193000
DTEND;TZID=UTC:20240101T193000
DTSTAMP:20260423T131441
CREATED:20231221T205607Z
LAST-MODIFIED:20231221T205725Z
UID:129-1704137400-1704137400@palmyra184.com
SUMMARY:Manchester Regular Communication
DESCRIPTION:7:30pm \n  \n112 Adrian St\, Manchester\, MI 48158
URL:https://palmyra184.com/event/manchester-regular-communication/
CATEGORIES:Manchester
END:VEVENT
END:VCALENDAR