BEGIN:VCALENDAR
VERSION:2.0
PRODID:-//Palmyra #184 - ECPv6.15.20//NONSGML v1.0//EN
CALSCALE:GREGORIAN
METHOD:PUBLISH
X-WR-CALNAME:Palmyra #184
X-ORIGINAL-URL:https://palmyra184.com
X-WR-CALDESC:Events for Palmyra #184
REFRESH-INTERVAL;VALUE=DURATION:PT1H
X-Robots-Tag:noindex
X-PUBLISHED-TTL:PT1H
BEGIN:VTIMEZONE
TZID:UTC
BEGIN:STANDARD
TZOFFSETFROM:+0000
TZOFFSETTO:+0000
TZNAME:UTC
DTSTART:20230101T000000
END:STANDARD
END:VTIMEZONE
BEGIN:VEVENT
DTSTART;TZID=UTC:20240101T193000
DTEND;TZID=UTC:20240101T193000
DTSTAMP:20260423T131351
CREATED:20231221T231249Z
LAST-MODIFIED:20231221T231249Z
UID:146-1704137400-1704137400@palmyra184.com
SUMMARY:Fairfield Regular Communication
DESCRIPTION:7:30pm \n  \n1059 Seneca St\nAdrian\, MI 49221-9745
URL:https://palmyra184.com/event/fairfield-regular-communication/
CATEGORIES:Fairfield
END:VEVENT
END:VCALENDAR